BEGIN:VCALENDAR
VERSION:2.0
PRODID:-//ChamberMaster//Event Calendar 2.0//EN
METHOD:PUBLISH
X-PUBLISHED-TTL:P3D
REFRESH-INTERVAL:P3D
CALSCALE:GREGORIAN
BEGIN:VEVENT
DTSTART:20220115T013000Z
DTEND:20220115T030000Z
X-MICROSOFT-CDO-ALLDAYEVENT:FALSE
SUMMARY:Crystal Cabaret
DESCRIPTION:Singer Andie Baldwin: Singer\, songwriter and musician Andie Baldwin is a local sensation with her sultry voice and captivating versions of your favorite music. She will play songs off her album "Crazy on the Inside" along with a great mix of pop\, classic and contemporary hits. Andie's ability to replicate so many singers voices perfectly always stuns and amazes audiences.\n\nComedian Joey Gay: Comedy comes naturally to Joey Gay\, who mines his laughs from his colorful childhood in Brooklyn\, and being the younger brother of five sisters. He's a regular at New York comedy clubs like Caroline's\, Comedy Village\, Laugh Factory and Catch a Rising Star. In addition\, Joey competed in Last Comic Standing 4. He has had numerous television appearances in Law & Order\, and has appeared on Live at Gotham.\n\nOffered most Fridays & Saturdays   Two shows:  8:30pm - 10:00pm & 10:30pm  - 12:00 midnight\n\n$75 per person {plus tax and service fee}. Ages 21 and older. \n\nReservations are required. Please call 844.330.1710. 48 hour cancellation policy applies.
X-ALT-DESC;FMTTYPE=text/html:<p>Singer Andie Baldwin: Singer\, songwriter and musician Andie Baldwin is a local sensation with her sultry voice and captivating versions of your favorite music. She will play songs off her album &quot\;Crazy on the Inside&quot\; along with a great mix of pop\, classic and contemporary hits. Andie&#39\;s ability to replicate so many singers voices perfectly always stuns and amazes audiences.</p>\n\n<p>Comedian Joey Gay: Comedy comes naturally to Joey Gay\, who mines his laughs from his colorful childhood in Brooklyn\, and being the younger brother of five sisters. He&rsquo\;s a regular at New York comedy clubs like Caroline&rsquo\;s\, Comedy Village\, Laugh Factory and Catch a Rising Star. In addition\, Joey competed in&nbsp\;Last Comic Standing 4. He has had numerous television appearances in&nbsp\;Law &amp\; Order\, and has appeared on&nbsp\;Live at Gotham.</p>\n\n<p>Offered most Fridays &amp\; Saturdays &mdash\; Two shows:&nbsp\;&nbsp\;8:30pm - 10:00pm&nbsp\;&amp\; 10:30pm&nbsp\; - 12:00 midnight</p>\n\n<p>$75 per person {plus tax and service fee}. Ages 21 and older.&nbsp\;</p>\n\n<p>Reservations are required. Please call 844.330.1710. 48 hour cancellation policy applies.&nbsp\;</p>\n
LOCATION:Grand Cascades Lodge
UID:e.262.8922
SEQUENCE:3
DTSTAMP:20260422T023640Z
URL:http://warwickchamber.chambermaster.com/events/details/crystal-cabaret-8922
END:VEVENT

END:VCALENDAR
